BEGIN:VCALENDAR
VERSION:2.0
PRODID:-//Rotary LA5 - ECPv6.15.20//NONSGML v1.0//EN
CALSCALE:GREGORIAN
METHOD:PUBLISH
X-WR-CALNAME:Rotary LA5
X-ORIGINAL-URL:https://rotaryla5.org
X-WR-CALDESC:Events for Rotary LA5
REFRESH-INTERVAL;VALUE=DURATION:PT1H
X-Robots-Tag:noindex
X-PUBLISHED-TTL:PT1H
BEGIN:VTIMEZONE
TZID:America/Los_Angeles
BEGIN:DAYLIGHT
TZOFFSETFROM:-0800
TZOFFSETTO:-0700
TZNAME:PDT
DTSTART:20240310T100000
END:DAYLIGHT
BEGIN:STANDARD
TZOFFSETFROM:-0700
TZOFFSETTO:-0800
TZNAME:PST
DTSTART:20241103T090000
END:STANDARD
BEGIN:DAYLIGHT
TZOFFSETFROM:-0800
TZOFFSETTO:-0700
TZNAME:PDT
DTSTART:20250309T100000
END:DAYLIGHT
BEGIN:STANDARD
TZOFFSETFROM:-0700
TZOFFSETTO:-0800
TZNAME:PST
DTSTART:20251102T090000
END:STANDARD
BEGIN:DAYLIGHT
TZOFFSETFROM:-0800
TZOFFSETTO:-0700
TZNAME:PDT
DTSTART:20260308T100000
END:DAYLIGHT
BEGIN:STANDARD
TZOFFSETFROM:-0700
TZOFFSETTO:-0800
TZNAME:PST
DTSTART:20261101T090000
END:STANDARD
END:VTIMEZONE
BEGIN:VEVENT
DTSTART;TZID=America/Los_Angeles:20250926T113000
DTEND;TZID=America/Los_Angeles:20250926T133000
DTSTAMP:20260424T081945
CREATED:20250920T222015Z
LAST-MODIFIED:20250929T222259Z
UID:511-1758886200-1758893400@rotaryla5.org
SUMMARY:Dr. Manuel Pastor
DESCRIPTION:Register In-Person\n				\n			\n				\n				\n				\n				\n				\n				\n				\n					Zoom Registration\n				\n			\n				\n			\n			\n				\n				\n				\n				\n			\n				\n				\n				\n				\n				\n				\n				\n				\n				\n				\n				Dr. Manuel Pastor is a Distinguished Professor of Sociology and American Studies & Ethnicity at the University of Southern California. He currently directs the Equity Research Institute at USC. Pastor holds an economics Ph.D. from the University of Massachusetts\, Amherst\, and is the inaugural holder of the Turpanjian Chair in Civil Society and Social Change at USC. \nPastor’s research has generally focused on issues of the economic\, environmental and social conditions facing low-income urban communities – and the social movements seeking to change those realities. \n			\n			\n				\n				\n				\n				\n			\n				\n				\n				\n				\n				\n				\n				\n				\n				\n				\n				Dress Code\nFor the maximum enjoyment\, and to preserve the customs and traditions at The California Club\, all Members\, Privilege Holders and their Guests are expected to conduct themselves with decorum in keeping with the Club’s concepts of dignity and mutual respect. \n			\n			\n				\n				\n				\n				\n			\n				\n				\n				\n				\n				\n				\n				\n				\n				\n				\n				Allowed:\n\nClothing customary of good taste with the minimum requirements of:\nJackets Preferred\nCollared Shirts\nSlacks or Khaki Pants\n\n\n			\n			\n				\n				\n				\n				\n				\n				\n				\n				\n				\n				Not Allowed:\n\nAny Denim\nUntucked Shirts\nT-Shirts\nShorts\nHoodies\nSports Jerseys\nTrack Suits\nFlip Flops\nHats\nAthletic Shoes
URL:https://rotaryla5.org/event/dr-manuel-pastor/
LOCATION:The California Club\, 538 Flower Street\, Los Angeles\, CA\, 90071\, United States
CATEGORIES:Speaker Event
ATTACH;FMTTYPE=image/webp:https://rotaryla5.org/wp-content/uploads/2025/09/manuel-pastor.webp
END:VEVENT
END:VCALENDAR