BEGIN:VCALENDAR
VERSION:2.0
PRODID:-//Rotary LA5 - ECPv6.15.20//NONSGML v1.0//EN
CALSCALE:GREGORIAN
METHOD:PUBLISH
X-WR-CALNAME:Rotary LA5
X-ORIGINAL-URL:https://rotaryla5.org
X-WR-CALDESC:Events for Rotary LA5
REFRESH-INTERVAL;VALUE=DURATION:PT1H
X-Robots-Tag:noindex
X-PUBLISHED-TTL:PT1H
BEGIN:VTIMEZONE
TZID:America/Los_Angeles
BEGIN:DAYLIGHT
TZOFFSETFROM:-0800
TZOFFSETTO:-0700
TZNAME:PDT
DTSTART:20250309T100000
END:DAYLIGHT
BEGIN:STANDARD
TZOFFSETFROM:-0700
TZOFFSETTO:-0800
TZNAME:PST
DTSTART:20251102T090000
END:STANDARD
BEGIN:DAYLIGHT
TZOFFSETFROM:-0800
TZOFFSETTO:-0700
TZNAME:PDT
DTSTART:20260308T100000
END:DAYLIGHT
BEGIN:STANDARD
TZOFFSETFROM:-0700
TZOFFSETTO:-0800
TZNAME:PST
DTSTART:20261101T090000
END:STANDARD
BEGIN:DAYLIGHT
TZOFFSETFROM:-0800
TZOFFSETTO:-0700
TZNAME:PDT
DTSTART:20270314T100000
END:DAYLIGHT
BEGIN:STANDARD
TZOFFSETFROM:-0700
TZOFFSETTO:-0800
TZNAME:PST
DTSTART:20271107T090000
END:STANDARD
END:VTIMEZONE
BEGIN:VEVENT
DTSTART;TZID=America/Los_Angeles:20260515T103000
DTEND;TZID=America/Los_Angeles:20260515T133000
DTSTAMP:20260424T064722
CREATED:20260416T182843Z
LAST-MODIFIED:20260416T182843Z
UID:1424-1778841000-1778851800@rotaryla5.org
SUMMARY:Kevin Ash: Rose Bowl Game
DESCRIPTION:Register In-Person\n				\n			\n				\n				\n				\n				\n				\n				\n				\n					Zoom Registration\n				\n			\n				\n			\n			\n				\n				\n				\n				\n			\n				\n				\n				\n				\n				\n				\n				\n				\n				\n				\n				Kevin has spent his professional career working in collegiate and international amateur sports management. In May 2026\, Kevin transitioned from his full-time role to a contractor position. In this capacity\, he continues to support both the Tournament of Roses and the Rose Bowl Game\, helping ensure continuity across key operational areas\, stakeholder relationships\, and strategic initiatives. \nKevin began as the Chief Administrative Officer of the Rose Bowl Game in 1998. \nHe has also served in similar roles with FIFA World Cup 94\, the 1996 Olympic Games in Atlanta\, Georgia\, the 2010 Olympic Games in Vancouver\, Canada\, and thirteen years at the University of Southern California managing their athletic ticketing and game management program.   \nKevin is a graduate of the University of Southern California\, with a degree in Broadcast Journalism/Sports Information. While at USC\, Kevin played men’s volleyball\, and was a member of the 1977 national championship team. \nKevin is married to Kathleen Ash\, who is the Associate Vice President for Development at Loyola Marymount University. Kevin and Kathy have two adult children\, Hilary and Connor.
URL:https://rotaryla5.org/event/kevin-ash-rose-bowl-game/
LOCATION:The City Club LA\, 555 Flower Street\, 51st Floor\, Los Angeles\, CA\, 90071\, United States
ATTACH;FMTTYPE=image/png:https://rotaryla5.org/wp-content/uploads/2026/04/Screenshot-2026-04-16-at-11.23.25-AM.png
END:VEVENT
END:VCALENDAR