BEGIN:VCALENDAR
VERSION:2.0
PRODID:-//Rotary LA5 - ECPv6.15.20//NONSGML v1.0//EN
CALSCALE:GREGORIAN
METHOD:PUBLISH
X-WR-CALNAME:Rotary LA5
X-ORIGINAL-URL:https://rotaryla5.org
X-WR-CALDESC:Events for Rotary LA5
REFRESH-INTERVAL;VALUE=DURATION:PT1H
X-Robots-Tag:noindex
X-PUBLISHED-TTL:PT1H
BEGIN:VTIMEZONE
TZID:America/Los_Angeles
BEGIN:DAYLIGHT
TZOFFSETFROM:-0800
TZOFFSETTO:-0700
TZNAME:PDT
DTSTART:20250309T100000
END:DAYLIGHT
BEGIN:STANDARD
TZOFFSETFROM:-0700
TZOFFSETTO:-0800
TZNAME:PST
DTSTART:20251102T090000
END:STANDARD
BEGIN:DAYLIGHT
TZOFFSETFROM:-0800
TZOFFSETTO:-0700
TZNAME:PDT
DTSTART:20260308T100000
END:DAYLIGHT
BEGIN:STANDARD
TZOFFSETFROM:-0700
TZOFFSETTO:-0800
TZNAME:PST
DTSTART:20261101T090000
END:STANDARD
BEGIN:DAYLIGHT
TZOFFSETFROM:-0800
TZOFFSETTO:-0700
TZNAME:PDT
DTSTART:20270314T100000
END:DAYLIGHT
BEGIN:STANDARD
TZOFFSETFROM:-0700
TZOFFSETTO:-0800
TZNAME:PST
DTSTART:20271107T090000
END:STANDARD
END:VTIMEZONE
BEGIN:VEVENT
DTSTART;TZID=America/Los_Angeles:20260502T150000
DTEND;TZID=America/Los_Angeles:20260502T180000
DTSTAMP:20260424T065147
CREATED:20260422T170703Z
LAST-MODIFIED:20260422T170703Z
UID:1465-1777734000-1777744800@rotaryla5.org
SUMMARY:LA5 Field Trip: Westchester Rotary Fundraiser: Off to the Races!
DESCRIPTION:Purchase Tickets\n			\n			\n				\n				\n				\n				\n			\n				\n				\n				\n				\n				\n				\n				\n				\n				\n				\n				Westchester Rotary Club 2026 Spring Fundraiser: Off to the Races!\nWe’re off to the Races to raise money for the Westchester Rotary Club’s service projects! \nGet ready to enjoy an afternoon of fun for a good cause\, as we enjoy lunch\, mint juleps\, the Kentucky Derby and celebrate our Citizen of the Year: Jaymes Bellous. We’ll also be announcing the winner of our reverse drawing! \nEvery ticket purchased\, sponsorship and donation to our spring fundraiser event helps us support our projects in Westchester and beyond from high school scholarships and international clean water projects to our Makeover Project and more! \nTogether\, we can “Unite for Good!” \n SPECIAL LA5 MEMBER PRICING ACTIVATED FOR THIS EVENT
URL:https://rotaryla5.org/event/la5-field-trip-westchester-rotary-fundraiser-off-to-the-races/
LOCATION:Knights of Columbus Hall\, 8049 W Manchester Ave\, Playa Del Rey\, CA\, 90293\, United States
ATTACH;FMTTYPE=image/jpeg:https://rotaryla5.org/wp-content/uploads/2026/04/westchester-off-to-the-races-1.jpeg
END:VEVENT
END:VCALENDAR