BEGIN:VCALENDAR
VERSION:2.0
PRODID:-//Rotary LA5 - ECPv6.15.20//NONSGML v1.0//EN
CALSCALE:GREGORIAN
METHOD:PUBLISH
X-WR-CALNAME:Rotary LA5
X-ORIGINAL-URL:https://rotaryla5.org
X-WR-CALDESC:Events for Rotary LA5
REFRESH-INTERVAL;VALUE=DURATION:PT1H
X-Robots-Tag:noindex
X-PUBLISHED-TTL:PT1H
BEGIN:VTIMEZONE
TZID:America/Los_Angeles
BEGIN:DAYLIGHT
TZOFFSETFROM:-0800
TZOFFSETTO:-0700
TZNAME:PDT
DTSTART:20250309T100000
END:DAYLIGHT
BEGIN:STANDARD
TZOFFSETFROM:-0700
TZOFFSETTO:-0800
TZNAME:PST
DTSTART:20251102T090000
END:STANDARD
BEGIN:DAYLIGHT
TZOFFSETFROM:-0800
TZOFFSETTO:-0700
TZNAME:PDT
DTSTART:20260308T100000
END:DAYLIGHT
BEGIN:STANDARD
TZOFFSETFROM:-0700
TZOFFSETTO:-0800
TZNAME:PST
DTSTART:20261101T090000
END:STANDARD
BEGIN:DAYLIGHT
TZOFFSETFROM:-0800
TZOFFSETTO:-0700
TZNAME:PDT
DTSTART:20270314T100000
END:DAYLIGHT
BEGIN:STANDARD
TZOFFSETFROM:-0700
TZOFFSETTO:-0800
TZNAME:PST
DTSTART:20271107T090000
END:STANDARD
END:VTIMEZONE
BEGIN:VEVENT
DTSTART;TZID=America/Los_Angeles:20260508T113000
DTEND;TZID=America/Los_Angeles:20260508T133000
DTSTAMP:20260424T065035
CREATED:20260416T180232Z
LAST-MODIFIED:20260416T180549Z
UID:1416-1778239800-1778247000@rotaryla5.org
SUMMARY:Shelter to Soldier: Wags & Walks
DESCRIPTION:Register In-Person\n				\n			\n				\n				\n				\n				\n				\n				\n				\n					Zoom Registration\n				\n			\n				\n			\n			\n				\n				\n				\n				\n			\n				\n				\n				\n				\n				\n				\n				\n				\n				\n				\n				\nShelter to Soldier is a 501(c)(3) nonprofit organization based in San Diego\, California\, dedicated to “Saving Lives\, Two at a Time™”.  \nThey adopt dogs from local shelters and train them to become psychiatric service dogs for veterans and first responders at no cost to the recipient. 
URL:https://rotaryla5.org/event/shelter-to-soldier-wags-walks/
LOCATION:The City Club LA\, 555 Flower Street\, 51st Floor\, Los Angeles\, CA\, 90071\, United States
ATTACH;FMTTYPE=image/png:https://rotaryla5.org/wp-content/uploads/2026/04/shelter-to-soldier.png
END:VEVENT
END:VCALENDAR